BEGIN:VCALENDAR
VERSION:2.0
PRODID:-//wp-events-plugin.com//6.4.7.2//EN
TZID:Europe/Paris
X-WR-TIMEZONE:Europe/Paris
BEGIN:VEVENT
UID:79@sudeducation03.org
DTSTART;TZID=Europe/Paris:20260501T103000
DTEND;TZID=Europe/Paris:20260501T103000
DTSTAMP:20260423T093959Z
URL:https://www.sudeducation03.org/events/manifestation-du-1er-mai/
SUMMARY:Manifestation du 1er mai
DESCRIPTION:Place d'Allier à Moulins - 10h30\n\nPlace Piquand à Montluço
 n - 10h30\n\nPlace de la poste à Vichy - 10h30
END:VEVENT
BEGIN:VTIMEZONE
TZID:Europe/Paris
X-LIC-LOCATION:Europe/Paris
BEGIN:DAYLIGHT
DTSTART:20260329T030000
TZOFFSETFROM:+0100
TZOFFSETTO:+0200
TZNAME:CEST
END:DAYLIGHT
END:VTIMEZONE
END:VCALENDAR